BEGIN:VCALENDAR
VERSION:2.0
PRODID:-//Nederlandse Kerk in Duitsland - ECPv4.8.0.1//NONSGML v1.0//EN
CALSCALE:GREGORIAN
METHOD:PUBLISH
X-WR-CALNAME:Nederlandse Kerk in Duitsland
X-ORIGINAL-URL:https://nederlandse-kerk.de
X-WR-CALDESC:Events for Nederlandse Kerk in Duitsland
BEGIN:VEVENT
DTSTART;TZID=Europe/Berlin:20260405T103000
DTEND;TZID=Europe/Berlin:20260405T103000
DTSTAMP:20260424T155138
CREATED:20260309T192218Z
LAST-MODIFIED:20260309T192218Z
UID:10982-1775385000-1775385000@nederlandse-kerk.de
SUMMARY:Kerkdienst in Düsseldorf
DESCRIPTION:
URL:https://nederlandse-kerk.de/samenkomst/kerkdienst-in-dusseldorf-2/
LOCATION:Paul-Gerhardt-Haus\, Düsseldorf\, Heerdter Landstraße 30\, Düsseldorf\, Deutschland
CATEGORIES:Kern Düsseldorf
ORGANIZER;CN="Kern%20D%C3%BCsseldorf":MAILTO:duesseldorf@nederlandse-kerk.de
END:VEVENT
END:VCALENDAR