BEGIN:VCALENDAR
VERSION:2.0
PRODID:-//Nederlandse Kerk in Duitsland - ECPv4.8.0.1//NONSGML v1.0//EN
CALSCALE:GREGORIAN
METHOD:PUBLISH
X-WR-CALNAME:Nederlandse Kerk in Duitsland
X-ORIGINAL-URL:https://nederlandse-kerk.de
X-WR-CALDESC:Events for Nederlandse Kerk in Duitsland
BEGIN:VEVENT
DTSTART;TZID=Europe/Berlin:20260426T110000
DTEND;TZID=Europe/Berlin:20260426T110000
DTSTAMP:20260424T144236
CREATED:20260309T191741Z
LAST-MODIFIED:20260309T191741Z
UID:10971-1777201200-1777201200@nederlandse-kerk.de
SUMMARY:Kerkdienst in Schwei
DESCRIPTION:
URL:https://nederlandse-kerk.de/samenkomst/kerkdienst-in-schwei/
LOCATION:St.- Secundus-Kirche\, Schwei\, Lindenstraße 20\, Schwei\, 26939\, Duitsland
CATEGORIES:Kern Schwei
END:VEVENT
END:VCALENDAR